Workbook

Sheet Báo cáo
A1: SỐ LIỆU THỐNG KÊ
A2: Lớp dạy | B2: =#REF! -> #REF! | F2: Số HS-SV | G2: =#REF! -> #REF!
A3: =#REF! -> #REF! | B3: Câu | C3: Mức độ
A4: =#REF! -> #REF! | C4: 4 | E4: 3 | G4: 2 | I4: 1
C5: Số lượng | D5: % | E5: Số lượng | F5: % | G5: Số lượng | H5: % | I5: Số lượng | J5: %
B6: 1 | C6: =#REF! -> #REF! | D6: =#REF! -> #REF! | E6: =#REF! -> #REF! | F6: =#REF! -> #REF! | G6: =#REF! -> #REF! | H6: =#REF! -> #REF! | I6: =#REF! -> #REF! | J6: =#REF! -> #REF!
B7: 2 | D7: =#REF! -> #REF! | E7: =#REF! -> #REF! | F7: =#REF! -> #REF! | G7: =#REF! -> #REF! | H7: =#REF! -> #REF! | I7: =#REF! -> #REF! | J7: =#REF! -> #REF!
B8: 3 | D8: =#REF! -> #REF! | E8: =#REF! -> #REF! | F8: =#REF! -> #REF! | G8: =#REF! -> #REF! | H8: =#REF! -> #REF! | I8: =#REF! -> #REF! | J8: =#REF! -> #REF!
B9: 4 | D9: =#REF! -> #REF! | E9: =#REF! -> #REF! | F9: =#REF! -> #REF! | G9: =#REF! -> #REF! | H9: =#REF! -> #REF! | I9: =#REF! -> #REF! | J9: =#REF! -> #REF!
B10: 5 | D10: =#REF! -> #REF! | E10: =#REF! -> #REF! | F10: =#REF! -> #REF! | G10: =#REF! -> #REF! | H10: =#REF! -> #REF! | I10: =#REF! -> #REF! | J10: =#REF! -> #REF!
B11: 6 | D11: =#REF! -> #REF! | E11: =#REF! -> #REF! | F11: =#REF! -> #REF! | G11: =#REF! -> #REF! | H11: =#REF! -> #REF! | I11: =#REF! -> #REF! | J11: =#REF! -> #REF!
B12: 7 | D12: =#REF! -> #REF! | E12: =#REF! -> #REF! | F12: =#REF! -> #REF! | G12: =#REF! -> #REF! | H12: =#REF! -> #REF! | I12: =#REF! -> #REF! | J12: =#REF! -> #REF!
B13: 8 | D13: =#REF! -> #REF! | E13: =#REF! -> #REF! | F13: =#REF! -> #REF! | G13: =#REF! -> #REF! | H13: =#REF! -> #REF! | I13: =#REF! -> #REF! | J13: =#REF! -> #REF!
B14: 9 | D14: =#REF! -> #REF! | E14: =#REF! -> #REF! | F14: =#REF! -> #REF! | G14: =#REF! -> #REF! | H14: =#REF! -> #REF! | I14: =#REF! -> #REF! | J14: =#REF! -> #REF!
B15: 10 | D15: =#REF! -> #REF! | E15: =#REF! -> #REF! | F15: =#REF! -> #REF! | G15: =#REF! -> #REF! | H15: =#REF! -> #REF! | I15: =#REF! -> #REF! | J15: =#REF! -> #REF!
B16: 11 | D16: =#REF! -> #REF! | E16: =#REF! -> #REF! | F16: =#REF! -> #REF! | G16: =#REF! -> #REF! | H16: =#REF! -> #REF! | I16: =#REF! -> #REF! | J16: =#REF! -> #REF!
B17: 12 | D17: =#REF! -> #REF! | E17: =#REF! -> #REF! | F17: =#REF! -> #REF! | G17: =#REF! -> #REF! | H17: =#REF! -> #REF! | I17: =#REF! -> #REF! | J17: =#REF! -> #REF!
B18: 13 | D18: =#REF! -> #REF! | E18: =#REF! -> #REF! | F18: =#REF! -> #REF! | G18: =#REF! -> #REF! | H18: =#REF! -> #REF! | I18: =#REF! -> #REF! | J18: =#REF! -> #REF!
... B25: 20 | D25: =#REF! -> #REF! | E25: =#REF! -> #REF! | F25: =#REF! -> #REF! | G25: =#REF! -> #REF! | H25: =#REF! -> #REF! | I25: =#REF! -> #REF! | J25: =#REF! -> #REF!
A26: Lớp dạy | B26: GV: Nguyễn Phương Hà | F26: Số HS-SV | G26: =C.PhuongHa!A12 -> 289
A27: =C.PhuongHa!A3 -> 14CĐ-NL1 | B27: 1 | C27: =C.PhuongHa!G3 -> 118 | D27: =C.PhuongHa!H3 -> 0.4083045 | E27: =C.PhuongHa!L3 -> 129 | F27: =C.PhuongHa!M3 -> 0.44636678 | G27: =C.PhuongHa!Q3 -> 27 | H27: =C.PhuongHa!R3 -> 0.093425606 | I27: =C.PhuongHa!V3 -> 15 | J27: =C.PhuongHa!W3 -> 0.051903114
A28: =C.PhuongHa!A4 -> 14CĐ-Đ1 | B28: 2 | C28: =C.PhuongHa!G4 -> 142 | D28: =C.PhuongHa!H4 -> 0.49134948 | E28: =C.PhuongHa!L4 -> 113 | F28: =C.PhuongHa!M4 -> 0.39100346 | G28: =C.PhuongHa!Q4 -> 17 | H28: =C.PhuongHa!R4 -> 0.058823529 | I28: =C.PhuongHa!V4 -> 11 | J28: =C.PhuongHa!W4 -> 0.038062284
A29: =C.PhuongHa!A5 -> 14CĐ-ĐT2 | B29: 3 | C29: =C.PhuongHa!G5 -> 102 | D29: =C.PhuongHa!H5 -> 0.35294118 | E29: =C.PhuongHa!L5 -> 140 | F29: =C.PhuongHa!M5 -> 0.48442907 | G29: =C.PhuongHa!Q5 -> 32 | H29: =C.PhuongHa!R5 -> 0.11072664 | I29: =C.PhuongHa!V5 -> 6 | J29: =C.PhuongHa!W5 -> 0.020761246
A30: =C.PhuongHa!A6 -> 14CĐ-CK1 | B30: 4 | C30: =C.PhuongHa!G6 -> 145 | D30: =C.PhuongHa!H6 -> 0.5017301 | E30: =C.PhuongHa!L6 -> 106 | F30: =C.PhuongHa!M6 -> 0.36678201 | G30: =C.PhuongHa!Q6 -> 27 | H30: =C.PhuongHa!R6 -> 0.093425606 | I30: =C.PhuongHa!V6 -> 4 | J30: =C.PhuongHa!W6 -> 0.01384083
A31: =C.PhuongHa!A7 -> 14CĐ-CK2 | B31: 5 | C31: =C.PhuongHa!G7 -> 117 | D31: =C.PhuongHa!H7 -> 0.40484429 | E31: =C.PhuongHa!L7 -> 122 | F31: =C.PhuongHa!M7 -> 0.42214533 | G31: =C.PhuongHa!Q7 -> 32 | H31: =C.PhuongHa!R7 -> 0.11072664 | I31: =C.PhuongHa!V7 -> 16 | J31: =C.PhuongHa!W7 -> 0.055363322
A32: =C.PhuongHa!A8 -> 14CĐ-CK3 | B32: 6 | C32: =C.PhuongHa!G8 -> 131 | D32: =C.PhuongHa!H8 -> 0.4532872 | E32: =C.PhuongHa!L8 -> 117 | F32: =C.PhuongHa!M8 -> 0.40484429 | G32: =C.PhuongHa!Q8 -> 23 | H32: =C.PhuongHa!R8 -> 0.079584775 | I32: =C.PhuongHa!V8 -> 8 | J32: =C.PhuongHa!W8 -> 0.027681661
A33: =C.PhuongHa!A9 -> 14CĐ-O1 | B33: 7 | C33: =C.PhuongHa!G9 -> 102 | D33: =C.PhuongHa!H9 -> 0.35294118 | E33: =C.PhuongHa!L9 -> 128 | F33: =C.PhuongHa!M9 -> 0.44290657 | G33: =C.PhuongHa!Q9 -> 44 | H33: =C.PhuongHa!R9 -> 0.15224913 | I33: =C.PhuongHa!V9 -> 6 | J33: =C.PhuongHa!W9 -> 0.020761246
A34: =C.PhuongHa!A10 -> 14CĐ-O2 | B34: 8 | C34: =C.PhuongHa!G10 -> 122 | D34: =C.PhuongHa!H10 -> 0.42214533 | E34: =C.PhuongHa!L10 -> 103 | F34: =C.PhuongHa!M10 -> 0.35640138 | G34: =C.PhuongHa!Q10 -> 35 | H34: =C.PhuongHa!R10 -> 0.12110727 | I34: =C.PhuongHa!V10 -> 13 | J34: =C.PhuongHa!W10 -> 0.044982699
A35: =C.PhuongHa!A11 -> 14CĐ-O5 | B35: 9 | C35: =C.PhuongHa!G11 -> 122 | D35: =C.PhuongHa!H11 -> 0.42214533 | E35: =C.PhuongHa!L11 -> 116 | F35: =C.PhuongHa!M11 -> 0.40138408 | G35: =C.PhuongHa!Q11 -> 34 | H35: =C.PhuongHa!R11 -> 0.11764706 | I35: =C.PhuongHa!V11 -> 15 | J35: =C.PhuongHa!W11 -> 0.051903114
A36: =C.PhuongHa!A12 -> 289 | B36: 10 | C36: =C.PhuongHa!G12 -> 106 | D36: =C.PhuongHa!H12 -> 0.36678201 | E36: =C.PhuongHa!L12 -> 110 | F36: =C.PhuongHa!M12 -> 0.38062284 | G36: =C.PhuongHa!Q12 -> 52 | H36: =C.PhuongHa!R12 -> 0.1799308 | I36: =C.PhuongHa!V12 -> 21 | J36: =C.PhuongHa!W12 -> 0.07266436
B37: 11 | C37: =C.PhuongHa!G13 -> 113 | D37: =C.PhuongHa!H13 -> 0.39100346 | E37: =C.PhuongHa!L13 -> 121 | F37: =C.PhuongHa!M13 -> 0.41868512 | G37: =C.PhuongHa!Q13 -> 38 | H37: =C.PhuongHa!R13 -> 0.13148789 | I37: =C.PhuongHa!V13 -> 10 | J37: =C.PhuongHa!W13 -> 0.034602076
B38: 12 | C38: =C.PhuongHa!G14 -> 122 | D38: =C.PhuongHa!H14 -> 0.42214533 | E38: =C.PhuongHa!L14 -> 126 | F38: =C.PhuongHa!M14 -> 0.43598616 | G38: =C.PhuongHa!Q14 -> 27 | H38: =C.PhuongHa!R14 -> 0.093425606 | I38: =C.PhuongHa!V14 -> 5 | J38: =C.PhuongHa!W14 -> 0.017301038
B39: 13 | C39: =C.PhuongHa!G15 -> 104 | D39: =C.PhuongHa!H15 -> 0.35986159 | E39: =C.PhuongHa!L15 -> 124 | F39: =C.PhuongHa!M15 -> 0.42906574 | G39: =C.PhuongHa!Q15 -> 34 | H39: =C.PhuongHa!R15 -> 0.11764706 | I39: =C.PhuongHa!V15 -> 17 | J39: =C.PhuongHa!W15 -> 0.058823529
B40: 14 | C40: =C.PhuongHa!G16 -> 148 | D40: =C.PhuongHa!H16 -> 0.51211073 | E40: =C.PhuongHa!L16 -> 113 | F40: =C.PhuongHa!M16 -> 0.39100346 | G40: =C.PhuongHa!Q16 -> 20 | H40: =C.PhuongHa!R16 -> 0.069204152 | I40: =C.PhuongHa!V16 -> 6 | J40: =C.PhuongHa!W16 -> 0.020761246
B41: 15 | C41: =C.PhuongHa!G17 -> 108 | D41: =C.PhuongHa!H17 -> 0.37370242 | E41: =C.PhuongHa!L17 -> 125 | F41: =C.PhuongHa!M17 -> 0.43252595 | G41: =C.PhuongHa!Q17 -> 42 | H41: =C.PhuongHa!R17 -> 0.14532872 | I41: =C.PhuongHa!V17 -> 10 | J41: =C.PhuongHa!W17 -> 0.034602076
B42: 16 | C42: =C.PhuongHa!G18 -> 99 | D42: =C.PhuongHa!H18 -> 0.34256055 | E42: =C.PhuongHa!L18 -> 140 | F42: =C.PhuongHa!M18 -> 0.48442907 | G42: =C.PhuongHa!Q18 -> 35 | H42: =C.PhuongHa!R18 -> 0.12110727 | I42: =C.PhuongHa!V18 -> 15 | J42: =C.PhuongHa!W18 -> 0.051903114
B43: 17 | C43: =C.PhuongHa!G19 -> 121 | D43: =C.PhuongHa!H19 -> 0.41868512 | E43: =C.PhuongHa!L19 -> 103 | F43: =C.PhuongHa!M19 -> 0.35640138 | G43: =C.PhuongHa!Q19 -> 30 | H43: =C.PhuongHa!R19 -> 0.10380623 | I43: =C.PhuongHa!V19 -> 9 | J43: =C.PhuongHa!W19 -> 0.031141869
B44: 18 | C44: =C.PhuongHa!G20 -> 133 | D44: =C.PhuongHa!H20 -> 0.46020761 | E44: =C.PhuongHa!L20 -> 116 | F44: =C.PhuongHa!M20 -> 0.40138408 | G44: =C.PhuongHa!Q20 -> 26 | H44: =C.PhuongHa!R20 -> 0.089965398 | I44: =C.PhuongHa!V20 -> 11 | J44: =C.PhuongHa!W20 -> 0.038062284
B45: 19 | C45: =C.PhuongHa!G21 -> 139 | D45: =C.PhuongHa!H21 -> 0.48096886 | E45: =C.PhuongHa!L21 -> 111 | F45: =C.PhuongHa!M21 -> 0.38408304 | G45: =C.PhuongHa!Q21 -> 24 | H45: =C.PhuongHa!R21 -> 0.083044983 | I45: =C.PhuongHa!V21 -> 9 | J45: =C.PhuongHa!W21 -> 0.031141869
B46: 20 | C46: =C.PhuongHa!G22 -> 142 | D46: =C.PhuongHa!H22 -> 0.49134948 | E46: =C.PhuongHa!L22 -> 100 | F46: =C.PhuongHa!M22 -> 0.34602076 | G46: =C.PhuongHa!Q22 -> 33 | H46: =C.PhuongHa!R22 -> 0.11418685 | I46: =C.PhuongHa!V22 -> 7 | J46: =C.PhuongHa!W22 -> 0.024221453
...

Sheet C. BAO TRAN
A1: GV: Nguyễn Thị Bảo Trân
A2: Lớp | B2: số SV-HS | C2: Câu | D2: mức 4 | I2: mức 3 | N2: mức 2 | S2: mức 1
A3: 14CĐ-TP1 | B3: 30 | C3: 1 | D3: 8 | E3: =D3*5 -> 40 | F3: 4 | G3: =SUM(E3:F3) -> 44 | H3: =G3/$A$10 -> 0.56410256 | I3: 5 | J3: =I3*5 -> 25 | K3: 1 | L3: =SUM(J3:K3) -> 26 | M3: =L3/$A$10 -> 0.33333333 | N3: 0 | O3: =N3*5 -> 0 | P3: 6 | Q3: =SUM(O3:P3) -> 6 | R3: =Q3/$A$10 -> 0.076923077 | S3: 0 | T3: =S3*5 -> 0 | U3: 2 | V3: =SUM(T3:U3) -> 2 | W3: =V3/$A$10 -> 0.025641026
A4: 14CĐ-TP2 | B4: 22 | C4: 2 | D4: 5 | E4: =D4*5 -> 25 | F4: 5 | G4: =SUM(E4:F4) -> 30 | H4: =G4/$A$10 -> 0.38461538 | I4: 6 | J4: =I4*5 -> 30 | K4: 10 | L4: =SUM(J4:K4) -> 40 | M4: =L4/$A$10 -> 0.51282051 | N4: 0 | O4: =N4*5 -> 0 | P4: 5 | Q4: =SUM(P4:P4) -> 5 | R4: =Q4/$A$10 -> 0.064102564 | S4: 0 | T4: =S4*5 -> 0 | U4: 2 | V4: =SUM(T4:U4) -> 2 | W4: =V4/$A$10 -> 0.025641026
A5: 14CĐ-TM1 | B5: 26 | C5: 3 | D5: 7 | E5: =D5*5 -> 35 | F5: 5 | G5: =SUM(E5:F5) -> 40 | H5: =G5/$A$10 -> 0.51282051 | I5: 5 | J5: =I5*5 -> 25 | K5: 6 | L5: =SUM(J5:K5) -> 31 | M5: =L5/$A$10 -> 0.3974359 | N5: 0 | O5: =N5*5 -> 0 | P5: 6 | Q5: =SUM(O5:P5) -> 6 | R5: =Q5/$A$10 -> 0.076923077 | S5: 0 | T5: =S5*5 -> 0 | U5: 0 | V5: =SUM(T5:U5) -> 0 | W5: =V5/$A$10 -> 0
A6: 14TC-QTM | C6: 4 | D6: 7 | E6: =D6*5 -> 35 | F6: 3 | G6: =SUM(E6:F6) -> 38 | H6: =G6/$A$10 -> 0.48717949 | I6: 5 | J6: =I6*5 -> 25 | K6: 4 | L6: =SUM(J6:K6) -> 29 | M6: =L6/$A$10 -> 0.37179487 | N6: 0 | O6: =N6*5 -> 0 | P6: 3 | Q6: =SUM(O6:P6) -> 3 | R6: =Q6/$A$10 -> 0.038461538 | S6: 0 | T6: =S6*5 -> 0 | U6: 8 | V6: =SUM(T6:U6) -> 8 | W6: =V6/$A$10 -> 0.1025641
C7: 5 | D7: 5 | E7: =D7*5 -> 25 | F7: 3 | G7: =SUM(E7:F7) -> 28 | H7: =G7/$A$10 -> 0.35897436 | I7: 7 | J7: =I7*5 -> 35 | K7: 6 | L7: =SUM(J7:K7) -> 41 | M7: =L7/$A$10 -> 0.52564103 | N7: 0 | O7: =N7*5 -> 0 | P7: 9 | Q7: =SUM(O7:P7) -> 9 | R7: =Q7/$A$10 -> 0.11538462 | S7: 0 | T7: =S7*5 -> 0 | U7: 0 | V7: =SUM(T7:U7) -> 0 | W7: =V7/$A$10 -> 0
C8: 6 | D8: 4 | E8: =D8*5 -> 20 | F8: 5 | G8: =SUM(E8:F8) -> 25 | H8: =G8/$A$10 -> 0.32051282 | I8: 7 | J8: =I8*5 -> 35 | K8: 1 | L8: =SUM(J8:K8) -> 36 | M8: =L8/$A$10 -> 0.46153846 | N8: 2 | O8: =N8*5 -> 10 | P8: 7 | Q8: =SUM(O8:P8) -> 17 | R8: =Q8/$A$10 -> 0.21794872 | S8: 0 | T8: =S8*5 -> 0 | U8: 0 | V8: =SUM(T8:U8) -> 0 | W8: =V8/$A$10 -> 0
C9: 7 | D9: 2 | E9: =D9*5 -> 10 | F9: 8 | G9: =SUM(E9:F9) -> 18 | H9: =G9/$A$10 -> 0.23076923 | I9: 8 | J9: =I9*5 -> 40 | K9: 2 | L9: =SUM(J9:K9) -> 42 | M9: =L9/$A$10 -> 0.53846154 | N9: 2 | O9: =N9*5 -> 10 | P9: 6 | Q9: =SUM(O9:P9) -> 16 | R9: =Q9/$A$10 -> 0.20512821 | S9: 0 | T9: =S9*5 -> 0 | U9: 2 | V9: =SUM(T9:U9) -> 2 | W9: =V9/$A$10 -> 0.025641026
A10: =SUM(B3:B6) -> 78 | C10: 8 | D10: 3 | E10: =D10*5 -> 15 | F10: 9 | G10: =SUM(E10:F10) -> 24 | H10: =G10/$A$10 -> 0.30769231 | I10: 7 | J10: =I10*5 -> 35 | K10: 5 | L10: =SUM(J10:K10) -> 40 | M10: =L10/$A$10 -> 0.51282051 | N10: 2 | O10: =N10*5 -> 10 | P10: 3 | Q10: =SUM(O10:P10) -> 13 | R10: =Q10/$A$10 -> 0.16666667 | S10: 0 | T10: =S10*5 -> 0 | U10: 1 | V10: =SUM(T10:U10) -> 1 | W10: =V10/$A$10 -> 0.012820513
C11: 9 | D11: 5 | E11: =D11*5 -> 25 | F11: 2 | G11: =SUM(E11:F11) -> 27 | H11: =G11/$A$10 -> 0.34615385 | I11: 5 | J11: =I11*5 -> 25 | K11: 8 | L11: =SUM(J11:K11) -> 33 | M11: =L11/$A$10 -> 0.42307692 | N11: 2 | O11: =N11*5 -> 10 | P11: 4 | Q11: =SUM(O11:P11) -> 14 | R11: =Q11/$A$10 -> 0.17948718 | S11: 0 | T11: =S11*5 -> 0 | U11: 3 | V11: =SUM(T11:U11) -> 3 | W11: =V11/$A$10 -> 0.038461538
C12: 10 | D12: 5 | E12: =D12*5 -> 25 | F12: 3 | G12: =SUM(E12:F12) -> 28 | H12: =G12/$A$10 -> 0.35897436 | I12: 6 | J12: =I12*5 -> 30 | K12: 7 | L12: =SUM(J12:K12) -> 37 | M12: =L12/$A$10 -> 0.47435897 | N12: 2 | O12: =N12*5 -> 10 | P12: 2 | Q12: =SUM(O12:P12) -> 12 | R12: =Q12/$A$10 -> 0.15384615 | S12: 0 | T12: =S12*5 -> 0 | U12: 1 | V12: =SUM(T12:U12) -> 1 | W12: =V12/$A$10 -> 0.012820513
C13: 11 | D13: 7 | E13: =D13*5 -> 35 | F13: 5 | G13: =SUM(E13:F13) -> 40 | H13: =G13/$A$10 -> 0.51282051 | I13: 4 | J13: =I13*5 -> 20 | K13: 6 | L13: =SUM(J13:K13) -> 26 | M13: =L13/$A$10 -> 0.33333333 | N13: 1 | O13: =N13*5 -> 5 | P13: 4 | Q13: =SUM(O13:P13) -> 9 | R13: =Q13/$A$10 -> 0.11538462 | S13: 0 | T13: =S13*5 -> 0 | U13: 1 | V13: =SUM(T13:U13) -> 1 | W13: =V13/$A$10 -> 0.012820513
C14: 12 | D14: 5 | E14: =D14*5 -> 25 | F14: 3 | G14: =SUM(E14:F14) -> 28 | H14: =G14/$A$10 -> 0.35897436 | I14: 7 | J14: =I14*5 -> 35 | K14: 9 | L14: =SUM(J14:K14) -> 44 | M14: =L14/$A$10 -> 0.56410256 | N14: 0 | O14: =N14*5 -> 0 | P14: 6 | Q14: =SUM(O14:P14) -> 6 | R14: =Q14/$A$10 -> 0.076923077 | S14: 0 | T14: =S14*5 -> 0 | U14: 0 | V14: =SUM(T14:U14) -> 0 | W14: =V14/$A$10 -> 0
C15: 13 | D15: 5 | E15: =D15*5 -> 25 | F15: 3 | G15: =SUM(E15:F15) -> 28 | H15: =G15/$A$10 -> 0.35897436 | I15: 7 | J15: =I15*5 -> 35 | K15: 9 | L15: =SUM(J15:K15) -> 44 | M15: =L15/$A$10 -> 0.56410256 | N15: 0 | O15: =N15*5 -> 0 | P15: 6 | Q15: =SUM(O15:P15) -> 6 | R15: =Q15/$A$10 -> 0.076923077 | S15: 0 | T15: =S15*5 -> 0 | U15: 0 | V15: =SUM(T15:U15) -> 0 | W15: =V15/$A$10 -> 0
C16: 14 | D16: 6 | E16: =D16*5 -> 30 | F16: 5 | G16: =SUM(E16:F16) -> 35 | H16: =G16/$A$10 -> 0.44871795 | I16: 6 | J16: =I16*5 -> 30 | K16: 4 | L16: =SUM(J16:K16) -> 34 | M16: =L16/$A$10 -> 0.43589744 | N16: 0 | O16: =N16*5 -> 0 | P16: 7 | Q16: =SUM(O16:P16) -> 7 | R16: =Q16/$A$10 -> 0.08974359 | S16: 0 | T16: =S16*5 -> 0 | U16: 2 | V16: =SUM(T16:U16) -> 2 | W16: =V16/$A$10 -> 0.025641026
C17: 15 | D17: 5 | E17: =D17*5 -> 25 | F17: 6 | G17: =SUM(E17:F17) -> 31 | H17: =G17/$A$10 -> 0.3974359 | I17: 7 | J17: =I17*5 -> 35 | K17: 3 | L17: =SUM(J17:K17) -> 38 | M17: =L17/$A$10 -> 0.48717949 | N17: 0 | O17: =N17*5 -> 0 | P17: 7 | Q17: =SUM(O17:P17) -> 7 | R17: =Q17/$A$10 -> 0.08974359 | S17: 0 | T17: =S17*5 -> 0 | U17: 2 | V17: =SUM(T17:U17) -> 2 | W17: =V17/$A$10 -> 0.025641026
C18: 16 | D18: 5 | E18: =D18*5 -> 25 | F18: 5 | G18: =SUM(E18:F18) -> 30 | H18: =G18/$A$10 -> 0.38461538 | I18: 6 | J18: =I18*5 -> 30 | K18: 3 | L18: =SUM(J18:K18) -> 33 | M18: =L18/$A$10 -> 0.42307692 | N18: 1 | O18: =N18*5 -> 5 | P18: 10 | Q18: =SUM(O18:P18) -> 15 | R18: =Q18/$A$10 -> 0.19230769 | S18: 0 | T18: =S18*5 -> 0 | U18: 0 | V18: =SUM(T18:U18) -> 0 | W18: =V18/$A$10 -> 0
C19: 17 | D19: 5 | E19: =D19*5 -> 25 | F19: 5 | G19: =SUM(E19:F19) -> 30 | H19: =G19/$A$10 -> 0.38461538 | I19: 6 | J19: =I19*5 -> 30 | K19: 8 | L19: =SUM(J19:K19) -> 38 | M19: =L19/$A$10 -> 0.48717949 | N19: 1 | O19: =N19*5 -> 5 | P19: 5 | Q19: =SUM(O19:P19) -> 10 | R19: =Q19/$A$10 -> 0.12820513 | S19: 0 | T19: =S19*5 -> 0 | U19: 0 | V19: =SUM(T19:U19) -> 0 | W19: =V19/$A$10 -> 0
C20: 18 | D20: 7 | E20: =D20*5 -> 35 | F20: 5 | G20: =SUM(E20:F20) -> 40 | H20: =G20/$A$10 -> 0.51282051 | I20: 5 | J20: =I20*5 -> 25 | K20: 10 | L20: =SUM(J20:K20) -> 35 | M20: =L20/$A$10 -> 0.44871795 | N20: 0 | O20: =N20*5 -> 0 | P20: 1 | Q20: =SUM(O20:P20) -> 1 | R20: =Q20/$A$10 -> 0.012820513 | S20: 0 | T20: =S20*5 -> 0 | U20: 1 | V20: =SUM(T20:U20) -> 1 | W20: =V20/$A$10 -> 0.012820513
C21: 19 | D21: 8 | E21: =D21*5 -> 40 | F21: 7 | G21: =SUM(E21:F21) -> 47 | H21: =G21/$A$10 -> 0.6025641 | I21: 4 | J21: =I21*5 -> 20 | K21: 6 | L21: =SUM(J21:K21) -> 26 | M21: =L21/$A$10 -> 0.33333333 | N21: 0 | O21: =N21*5 -> 0 | P21: 4 | Q21: =SUM(O21:P21) -> 4 | R21: =Q21/$A$10 -> 0.051282051 | S21: 0 | T21: =S21*5 -> 0 | U21: 0 | V21: =SUM(T21:U21) -> 0 | W21: =V21/$A$10 -> 0
C22: 20 | D22: 8 | E22: =D22*5 -> 40 | F22: 6 | G22: =SUM(E22:F22) -> 46 | H22: =G22/$A$10 -> 0.58974359 | I22: 5 | J22: =I22*5 -> 25 | K22: 3 | L22: =SUM(J22:K22) -> 28 | M22: =L22/$A$10 -> 0.35897436 | N22: 0 | O22: =N22*5 -> 0 | P22: 1 | Q22: =SUM(O22:P22) -> 1 | R22: =Q22/$A$10 -> 0.012820513 | S22: 0 | T22: =S22*5 -> 0 | U22: 1 | V22: =SUM(T22:U22) -> 1 | W22: =V22/$A$10 -> 0.012820513
S23: TRƯỞNG KHOA
S26: Trần Kim Thu Liễu

Sheet HONG_LAN
A1: GV: Võ Thị Hồng Lan
A2: Lớp | B2: số SV-HS | C2: Câu | D2: mức 4 | I2: mức 3 | N2: mức 2 | S2: mức 1
A3: 14CĐ-M1 | B3: 32 | C3: 1 | D3: 19 | E3: =D3*5 -> 95 | F3: 11 | G3: =SUM(E3:F3) -> 106 | H3: =G3/$A$10 -> 1.7666667 | I3: 12 | J3: =I3*5 -> 60 | K3: 12 | L3: =SUM(J3:K3) -> 72 | M3: =L3/$A$10 -> 1.2 | N3: 1 | O3: 1 | P3: 0 | Q3: =SUM(O3:P3) -> 1 | R3: =Q3/$A$10 -> 0.016666667 | S3: 0 | T3: =S3*5 -> 0 | U3: 1 | V3: =SUM(T3:U3) -> 1 | W3: =V3/$A$10 -> 0.016666667
A4: 14TC-MT | B4: 28 | C4: 2 | D4: 12 | E4: =D4*5 -> 60 | F4: 10 | G4: =SUM(E4:F4) -> 70 | H4: =G4/$A$10 -> 1.1666667 | I4: 20 | J4: =I4*5 -> 100 | K4: 14 | L4: =SUM(J4:K4) -> 114 | M4: =L4/$A$10 -> 1.9 | N4: 0 | O4: 1 | P4: 1 | Q4: =SUM(P4:P4) -> 1 | R4: =Q4/$A$10 -> 0.016666667 | S4: 0 | T4: =S4*5 -> 0 | U4: 0 | V4: =SUM(T4:U4) -> 0 | W4: =V4/$A$10 -> 0
C5: 3 | D5: 11 | E5: =D5*5 -> 55 | F5: 12 | G5: =SUM(E5:F5) -> 67 | H5: =G5/$A$10 -> 1.1166667 | I5: 14 | J5: =I5*5 -> 70 | K5: 11 | L5: =SUM(J5:K5) -> 81 | M5: =L5/$A$10 -> 1.35 | N5: 5 | O5: 2 | P5: 1 | Q5: =SUM(O5:P5) -> 3 | R5: =Q5/$A$10 -> 0.05 | S5: 2 | T5: =S5*5 -> 10 | U5: 0 | V5: =SUM(T5:U5) -> 10 | W5: =V5/$A$10 -> 0.16666667
C6: 4 | D6: 8 | E6: =D6*5 -> 40 | F6: 10 | G6: =SUM(E6:F6) -> 50 | H6: =G6/$A$10 -> 0.83333333 | I6: 17 | J6: =I6*5 -> 85 | K6: 14 | L6: =SUM(J6:K6) -> 99 | M6: =L6/$A$10 -> 1.65 | N6: 3 | O6: 1 | P6: 2 | Q6: =SUM(O6:P6) -> 3 | R6: =Q6/$A$10 -> 0.05 | S6: 5 | T6: =S6*5 -> 25 | U6: 0 | V6: =SUM(T6:U6) -> 25 | W6: =V6/$A$10 -> 0.41666667
C7: 5 | D7: 13 | E7: =D7*5 -> 65 | F7: 11 | G7: =SUM(E7:F7) -> 76 | H7: =G7/$A$10 -> 1.2666667 | I7: 11 | J7: =I7*5 -> 55 | K7: 11 | L7: =SUM(J7:K7) -> 66 | M7: =L7/$A$10 -> 1.1 | N7: 8 | O7: 3 | P7: 3 | Q7: =SUM(O7:P7) -> 6 | R7: =Q7/$A$10 -> 0.1 | S7: 0 | T7: 0 | U7: 1 | V7: =SUM(T7:U7) -> 1 | W7: =V7/$A$10 -> 0.016666667
C8: 6 | D8: 11 | E8: =D8*5 -> 55 | F8: 11 | G8: =SUM(E8:F8) -> 66 | H8: =G8/$A$10 -> 1.1 | I8: 16 | J8: =I8*5 -> 80 | K8: 11 | L8: =SUM(J8:K8) -> 91 | M8: =L8/$A$10 -> 1.5166667 | N8: 4 | O8: 3 | P8: 2 | Q8: =SUM(O8:P8) -> 5 | R8: =Q8/$A$10 -> 0.083333333 | S8: 1 | T8: =S8*5 -> 5 | U8: 2 | V8: =SUM(T8:U8) -> 7 | W8: =V8/$A$10 -> 0.11666667
C9: 7 | D9: 5 | E9: =D9*5 -> 25 | F9: 10 | G9: =SUM(E9:F9) -> 35 | H9: =G9/$A$10 -> 0.58333333 | I9: 19 | J9: =I9*5 -> 95 | K9: 13 | L9: =SUM(J9:K9) -> 108 | M9: =L9/$A$10 -> 1.8 | N9: 8 | O9: 1 | P9: 0 | Q9: =SUM(O9:P9) -> 1 | R9: =Q9/$A$10 -> 0.016666667 | S9: 0 | T9: =S9*5 -> 0 | U9: 0 | V9: =SUM(T9:U9) -> 0 | W9: =V9/$A$10 -> 0
A10: =SUM(B3:B9) -> 60 | C10: 8 | D10: 8 | E10: =D10*5 -> 40 | F10: 10 | G10: =SUM(E10:F10) -> 50 | H10: =G10/$A$10 -> 0.83333333 | I10: 19 | J10: =I10*5 -> 95 | K10: 11 | L10: =SUM(J10:K10) -> 106 | M10: =L10/$A$10 -> 1.7666667 | N10: 5 | O10: 2 | P10: 3 | Q10: =SUM(O10:P10) -> 5 | R10: =Q10/$A$10 -> 0.083333333 | S10: 0 | T10: =S10*5 -> 0 | U10: 0 | V10: =SUM(T10:U10) -> 0 | W10: =V10/$A$10 -> 0
C11: 9 | D11: 5 | E11: =D11*5 -> 25 | F11: 11 | G11: =SUM(E11:F11) -> 36 | H11: =G11/$A$10 -> 0.6 | I11: 19 | J11: =I11*5 -> 95 | K11: 11 | L11: =SUM(J11:K11) -> 106 | M11: =L11/$A$10 -> 1.7666667 | N11: 6 | O11: 3 | P11: 1 | Q11: =SUM(O11:P11) -> 4 | R11: =Q11/$A$10 -> 0.066666667 | S11: 2 | T11: =S11*5 -> 10 | U11: 0 | V11: =SUM(T11:U11) -> 10 | W11: =V11/$A$10 -> 0.16666667
C12: 10 | D12: 9 | E12: =D12*5 -> 45 | F12: 13 | G12: =SUM(E12:F12) -> 58 | H12: =G12/$A$10 -> 0.96666667 | I12: 19 | J12: =I12*5 -> 95 | K12: 11 | L12: =SUM(J12:K12) -> 106 | M12: =L12/$A$10 -> 1.7666667 | N12: 2 | O12: 1 | P12: 1 | Q12: =SUM(O12:P12) -> 2 | R12: =Q12/$A$10 -> 0.033333333 | S12: 2 | T12: =S12*5 -> 10 | U12: 0 | V12: =SUM(T12:U12) -> 10 | W12: =V12/$A$10 -> 0.16666667
C13: 11 | D13: 14 | E13: =D13*5 -> 70 | F13: 13 | G13: =SUM(E13:F13) -> 83 | H13: =G13/$A$10 -> 1.3833333 | I13: 16 | J13: =I13*5 -> 80 | K13: 11 | L13: =SUM(J13:K13) -> 91 | M13: =L13/$A$10 -> 1.5166667 | N13: 2 | O13: 2 | P13: 0 | Q13: =SUM(O13:P13) -> 2 | R13: =Q13/$A$10 -> 0.033333333 | S13: 0 | T13: =S13*5 -> 0 | U13: 0 | V13: =SUM(T13:U13) -> 0 | W13: =V13/$A$10 -> 0
C14: 12 | D14: 17 | E14: =D14*5 -> 85 | F14: 13 | G14: =SUM(E14:F14) -> 98 | H14: =G14/$A$10 -> 1.6333333 | I14: 14 | J14: =I14*5 -> 70 | K14: 10 | L14: =SUM(J14:K14) -> 80 | M14: =L14/$A$10 -> 1.3333333 | N14: 1 | O14: 3 | P14: 0 | Q14: =SUM(O14:P14) -> 3 | R14: =Q14/$A$10 -> 0.05 | S14: 0 | T14: =S14*5 -> 0 | U14: 0 | V14: =SUM(T14:U14) -> 0 | W14: =V14/$A$10 -> 0
C15: 13 | D15: 13 | E15: =D15*5 -> 65 | F15: 13 | G15: =SUM(E15:F15) -> 78 | H15: =G15/$A$10 -> 1.3 | I15: 17 | J15: =I15*5 -> 85 | K15: 10 | L15: =SUM(J15:K15) -> 95 | M15: =L15/$A$10 -> 1.5833333 | N15: 2 | O15: 4 | P15: 0 | Q15: =SUM(O15:P15) -> 4 | R15: =Q15/$A$10 -> 0.066666667 | S15: 0 | T15: =S15*5 -> 0 | U15: 0 | V15: =SUM(T15:U15) -> 0 | W15: =V15/$A$10 -> 0
C16: 14 | D16: 12 | E16: =D16*5 -> 60 | F16: 12 | G16: =SUM(E16:F16) -> 72 | H16: =G16/$A$10 -> 1.2 | I16: 17 | J16: =I16*5 -> 85 | K16: 8 | L16: =SUM(J16:K16) -> 93 | M16: =L16/$A$10 -> 1.55 | N16: 3 | O16: 2 | P16: 1 | Q16: =SUM(O16:P16) -> 3 | R16: =Q16/$A$10 -> 0.05 | S16: 0 | T16: =S16*5 -> 0 | U16: 0 | V16: =SUM(T16:U16) -> 0 | W16: =V16/$A$10 -> 0
C17: 15 | D17: 9 | E17: =D17*5 -> 45 | F17: 10 | G17: =SUM(E17:F17) -> 55 | H17: =G17/$A$10 -> 0.91666667 | I17: 20 | J17: =I17*5 -> 100 | K17: 11 | L17: =SUM(J17:K17) -> 111 | M17: =L17/$A$10 -> 1.85 | N17: 3 | O17: 2 | P17: 1 | Q17: =SUM(O17:P17) -> 3 | R17: =Q17/$A$10 -> 0.05 | S17: 0 | T17: =S17*5 -> 0 | U17: 0 | V17: =SUM(T17:U17) -> 0 | W17: =V17/$A$10 -> 0
C18: 16 | D18: 9 | E18: =D18*5 -> 45 | F18: 10 | G18: =SUM(E18:F18) -> 55 | H18: =G18/$A$10 -> 0.91666667 | I18: 21 | J18: =I18*5 -> 105 | K18: 13 | L18: =SUM(J18:K18) -> 118 | M18: =L18/$A$10 -> 1.9666667 | N18: 1 | O18: 1 | P18: 0 | Q18: =SUM(O18:P18) -> 1 | R18: =Q18/$A$10 -> 0.016666667 | S18: 1 | T18: =S18*5 -> 5 | U18: 0 | V18: =SUM(T18:U18) -> 5 | W18: =V18/$A$10 -> 0.083333333
C19: 17 | D19: 11 | E19: =D19*5 -> 55 | F19: 12 | G19: =SUM(E19:F19) -> 67 | H19: =G19/$A$10 -> 1.1166667 | I19: 20 | J19: =I19*5 -> 100 | K19: 14 | L19: =SUM(J19:K19) -> 114 | M19: =L19/$A$10 -> 1.9 | N19: 1 | O19: 0 | P19: 1 | Q19: =SUM(O19:P19) -> 1 | R19: =Q19/$A$10 -> 0.016666667 | S19: 0 | T19: =S19*5 -> 0 | U19: 0 | V19: =SUM(T19:U19) -> 0 | W19: =V19/$A$10 -> 0
C20: 18 | D20: 15 | E20: =D20*5 -> 75 | F20: 15 | G20: =SUM(E20:F20) -> 90 | H20: =G20/$A$10 -> 1.5 | I20: 16 | J20: =I20*5 -> 80 | K20: 8 | L20: =SUM(J20:K20) -> 88 | M20: =L20/$A$10 -> 1.4666667 | N20: 1 | O20: 1 | P20: 2 | Q20: =SUM(O20:P20) -> 3 | R20: =Q20/$A$10 -> 0.05 | S20: 0 | T20: =S20*5 -> 0 | U20: 1 | V20: =SUM(T20:U20) -> 1 | W20: =V20/$A$10 -> 0.016666667
C21: 19 | D21: 15 | E21: =D21*5 -> 75 | F21: 12 | G21: =SUM(E21:F21) -> 87 | H21: =G21/$A$10 -> 1.45 | I21: 16 | J21: =I21*5 -> 80 | K21: 13 | L21: =SUM(J21:K21) -> 93 | M21: =L21/$A$10 -> 1.55 | N21: 1 | O21: 0 | P21: 0 | Q21: =SUM(O21:P21) -> 0 | R21: =Q21/$A$10 -> 0 | S21: 0 | T21: =S21*5 -> 0 | U21: 0 | V21: =SUM(T21:U21) -> 0 | W21: =V21/$A$10 -> 0
C22: 20 | D22: 13 | E22: =D22*5 -> 65 | F22: 13 | G22: =SUM(E22:F22) -> 78 | H22: =G22/$A$10 -> 1.3 | I22: 13 | J22: =I22*5 -> 65 | K22: 11 | L22: =SUM(J22:K22) -> 76 | M22: =L22/$A$10 -> 1.2666667 | N22: 6 | O22: 1 | P22: 2 | Q22: =SUM(O22:P22) -> 3 | R22: =Q22/$A$10 -> 0.05 | S22: 0 | T22: =S22*5 -> 0 | U22: 0 | V22: =SUM(T22:U22) -> 0 | W22: =V22/$A$10 -> 0
S23: TRƯỞNG KHOA
S26: Trần Kim Thu Liễu

Sheet VUONG_THANH_THUY
A1: GV: Vương Thanh Thủy
A2: Lớp | B2: số SV-HS | C2: Câu | D2: mức 4 | I2: mức 3 | N2: mức 2 | S2: mức 1
A3: 14CĐ-Ô1 | B3: 22 | C3: 1 | D3: 24 | E3: =D3*5 -> 120 | F3: 5 | G3: =SUM(E3:F3) -> 125 | H3: =G3/$A$10 -> 0.71428571 | I3: 6 | J3: =I3*5 -> 30 | K3: 13 | L3: =SUM(J3:K3) -> 43 | M3: =L3/$A$10 -> 0.24571429 | N3: 0 | O3: =N3*5 -> 0 | P3: 4 | Q3: =SUM(O3:P3) -> 4 | R3: =Q3/$A$10 -> 0.022857143 | S3: 0 | T3: =S3*5 -> 0 | U3: 2 | V3: =SUM(T3:U3) -> 2 | W3: =V3/$A$10 -> 0.011428571
A4: 14CĐ-Ô2 | B4: 45 | C4: 2 | D4: 26 | E4: =D4*5 -> 130 | F4: 11 | G4: =SUM(E4:F4) -> 141 | H4: =G4/$A$10 -> 0.80571429 | I4: 3 | J4: =I4*5 -> 15 | K4: 15 | L4: =SUM(J4:K4) -> 30 | M4: =L4/$A$10 -> 0.17142857 | N4: 0 | O4: =N4*5 -> 0 | P4: 3 | Q4: =SUM(P4:P4) -> 3 | R4: =Q4/$A$10 -> 0.017142857 | S4: 0 | T4: =S4*5 -> 0 | U4: 1 | V4: =SUM(T4:U4) -> 1 | W4: =V4/$A$10 -> 0.0057142857
A5: 14CĐ-Ô3 | B5: 28 | C5: 3 | D5: 28 | E5: =D5*5 -> 140 | F5: 9 | G5: =SUM(E5:F5) -> 149 | H5: =G5/$A$10 -> 0.85142857 | I5: 2 | J5: =I5*5 -> 10 | K5: 13 | L5: =SUM(J5:K5) -> 23 | M5: =L5/$A$10 -> 0.13142857 | N5: 0 | O5: =N5*5 -> 0 | P5: 3 | Q5: 2 | R5: =Q5/$A$10 -> 0.011428571 | S5: 0 | T5: =S5*5 -> 0 | U5: 1 | V5: 1 | W5: =V5/$A$10 -> 0.0057142857
A6: 14CĐ-Ô4 | B6: 38 | C6: 4 | D6: 28 | E6: =D6*5 -> 140 | F6: 10 | G6: =SUM(E6:F6) -> 150 | H6: =G6/$A$10 -> 0.85714286 | I6: 1 | J6: =I6*5 -> 5 | K6: 13 | L6: =SUM(J6:K6) -> 18 | M6: =L6/$A$10 -> 0.10285714 | N6: 0 | O6: =N6*5 -> 0 | P6: 5 | Q6: =SUM(O6:P6) -> 5 | R6: =Q6/$A$10 -> 0.028571429 | S6: 0 | T6: =S6*5 -> 0 | U6: 0 | V6: =SUM(T6:U6) -> 0 | W6: =V6/$A$10 -> 0
A7: 14CĐ-Ô5 | B7: 42 | C7: 5 | D7: 27 | E7: =D7*5 -> 135 | F7: 5 | G7: =SUM(E7:F7) -> 140 | H7: =G7/$A$10 -> 0.8 | I7: 4 | J7: =I7*5 -> 20 | K7: 12 | L7: =SUM(J7:K7) -> 32 | M7: =L7/$A$10 -> 0.18285714 | N7: 0 | O7: =N7*5 -> 0 | P7: 1 | Q7: =SUM(O7:P7) -> 1 | R7: =Q7/$A$10 -> 0.0057142857 | S7: 0 | T7: =S7*5 -> 0 | U7: 2 | V7: =SUM(T7:U7) -> 2 | W7: =V7/$A$10 -> 0.011428571
A8: 14TC-Ô1 | C8: 6 | D8: 24 | E8: =D8*5 -> 120 | F8: 9 | G8: =SUM(E8:F8) -> 129 | H8: =G8/$A$10 -> 0.73714286 | I8: 4 | J8: =I8*5 -> 20 | K8: 13 | L8: =SUM(J8:K8) -> 33 | M8: =L8/$A$10 -> 0.18857143 | N8: 0 | O8: =N8*5 -> 0 | P8: 11 | Q8: =SUM(O8:P8) -> 11 | R8: =Q8/$A$10 -> 0.062857143 | S8: 0 | T8: =S8*5 -> 0 | U8: 1 | V8: =SUM(T8:U8) -> 1 | W8: =V8/$A$10 -> 0.0057142857
A9: 14TC-Ô2 | C9: 7 | D9: 23 | E9: =D9*5 -> 115 | F9: 9 | G9: =SUM(E9:F9) -> 124 | H9: =G9/$A$10 -> 0.70857143 | I9: 5 | J9: =I9*5 -> 25 | K9: 11 | L9: =SUM(J9:K9) -> 36 | M9: =L9/$A$10 -> 0.20571429 | N9: 1 | O9: =N9*5 -> 5 | P9: 5 | Q9: =SUM(O9:P9) -> 10 | R9: =Q9/$A$10 -> 0.057142857 | S9: 0 | T9: =S9*5 -> 0 | U9: 3 | V9: =SUM(T9:U9) -> 3 | W9: =V9/$A$10 -> 0.017142857
A10: =SUM(B3:B9) -> 175 | C10: 8 | D10: 22 | E10: =D10*5 -> 110 | F10: 14 | G10: =SUM(E10:F10) -> 124 | H10: =G10/$A$10 -> 0.70857143 | I10: 5 | J10: =I10*5 -> 25 | K10: 14 | L10: =SUM(J10:K10) -> 39 | M10: =L10/$A$10 -> 0.22285714 | N10: 0 | O10: =N10*5 -> 0 | P10: 9 | Q10: =SUM(O10:P10) -> 9 | R10: =Q10/$A$10 -> 0.051428571 | S10: 0 | T10: =S10*5 -> 0 | U10: 2 | V10: =SUM(T10:U10) -> 2 | W10: =V10/$A$10 -> 0.011428571
C11: 9 | D11: 25 | E11: =D11*5 -> 125 | F11: 12 | G11: =SUM(E11:F11) -> 137 | H11: =G11/$A$10 -> 0.78285714 | I11: 4 | J11: =I11*5 -> 20 | K11: 9 | L11: =SUM(J11:K11) -> 29 | M11: =L11/$A$10 -> 0.16571429 | N11: 0 | O11: =N11*5 -> 0 | P11: 8 | Q11: =SUM(O11:P11) -> 8 | R11: =Q11/$A$10 -> 0.045714286 | S11: 0 | T11: =S11*5 -> 0 | U11: 1 | V11: =SUM(T11:U11) -> 1 | W11: =V11/$A$10 -> 0.0057142857
C12: 10 | D12: 28 | E12: =D12*5 -> 140 | F12: 4 | G12: =SUM(E12:F12) -> 144 | H12: =G12/$A$10 -> 0.82285714 | I12: 4 | J12: =I12*5 -> 20 | K12: 6 | L12: =SUM(J12:K12) -> 26 | M12: =L12/$A$10 -> 0.14857143 | N12: 0 | O12: =N12*5 -> 0 | P12: 2 | Q12: =SUM(O12:P12) -> 2 | R12: =Q12/$A$10 -> 0.011428571 | S12: 0 | T12: =S12*5 -> 0 | U12: 1 | V12: =SUM(T12:U12) -> 1 | W12: =V12/$A$10 -> 0.0057142857
C13: 11 | D13: 24 | E13: =D13*5 -> 120 | F13: 1 | G13: =SUM(E13:F13) -> 121 | H13: =G13/$A$10 -> 0.69142857 | I13: 7 | J13: =I13*5 -> 35 | K13: 12 | L13: =SUM(J13:K13) -> 47 | M13: =L13/$A$10 -> 0.26857143 | N13: 0 | O13: =N13*5 -> 0 | P13: 2 | Q13: =SUM(O13:P13) -> 2 | R13: =Q13/$A$10 -> 0.011428571 | S13: 0 | T13: =S13*5 -> 0 | U13: 4 | V13: =SUM(T13:U13) -> 4 | W13: =V13/$A$10 -> 0.022857143
C14: 12 | D14: 26 | E14: =D14*5 -> 130 | F14: 2 | G14: =SUM(E14:F14) -> 132 | H14: =G14/$A$10 -> 0.75428571 | I14: 7 | J14: =I14*5 -> 35 | K14: 5 | L14: =SUM(J14:K14) -> 40 | M14: =L14/$A$10 -> 0.22857143 | N14: 0 | O14: =N14*5 -> 0 | P14: 1 | Q14: =SUM(O14:P14) -> 1 | R14: =Q14/$A$10 -> 0.0057142857 | S14: 0 | T14: =S14*5 -> 0 | U14: 2 | V14: =SUM(T14:U14) -> 2 | W14: =V14/$A$10 -> 0.011428571
C15: 13 | D15: 22 | E15: =D15*5 -> 110 | F15: 11 | G15: =SUM(E15:F15) -> 121 | H15: =G15/$A$10 -> 0.69142857 | I15: 6 | J15: =I15*5 -> 30 | K15: 7 | L15: =SUM(J15:K15) -> 37 | M15: =L15/$A$10 -> 0.21142857 | N15: 0 | O15: =N15*5 -> 0 | P15: 11 | Q15: =SUM(O15:P15) -> 11 | R15: =Q15/$A$10 -> 0.062857143 | S15: 0 | T15: =S15*5 -> 0 | U15: 6 | V15: =SUM(T15:U15) -> 6 | W15: =V15/$A$10 -> 0.034285714
C16: 14 | D16: 22 | E16: =D16*5 -> 110 | F16: 10 | G16: =SUM(E16:F16) -> 120 | H16: =G16/$A$10 -> 0.68571429 | I16: 8 | J16: =I16*5 -> 40 | K16: 7 | L16: =SUM(J16:K16) -> 47 | M16: =L16/$A$10 -> 0.26857143 | N16: 0 | O16: =N16*5 -> 0 | P16: 6 | Q16: =SUM(O16:P16) -> 6 | R16: =Q16/$A$10 -> 0.034285714 | S16: 0 | T16: =S16*5 -> 0 | U16: 2 | V16: =SUM(T16:U16) -> 2 | W16: =V16/$A$10 -> 0.011428571
C17: 15 | D17: 24 | E17: =D17*5 -> 120 | F17: 11 | G17: =SUM(E17:F17) -> 131 | H17: =G17/$A$10 -> 0.74857143 | I17: 6 | J17: =I17*5 -> 30 | K17: 9 | L17: =SUM(J17:K17) -> 39 | M17: =L17/$A$10 -> 0.22285714 | N17: 0 | O17: =N17*5 -> 0 | P17: 3 | Q17: =SUM(O17:P17) -> 3 | R17: =Q17/$A$10 -> 0.017142857 | S17: 0 | T17: =S17*5 -> 0 | U17: 1 | V17: =SUM(T17:U17) -> 1 | W17: =V17/$A$10 -> 0.0057142857
C18: 16 | D18: 23 | E18: =D18*5 -> 115 | F18: 15 | G18: =SUM(E18:F18) -> 130 | H18: =G18/$A$10 -> 0.74285714 | I18: 6 | J18: =I18*5 -> 30 | K18: 11 | L18: =SUM(J18:K18) -> 41 | M18: =L18/$A$10 -> 0.23428571 | N18: 0 | O18: =N18*5 -> 0 | P18: 3 | Q18: =SUM(O18:P18) -> 3 | R18: =Q18/$A$10 -> 0.017142857 | S18: 0 | T18: =S18*5 -> 0 | U18: 1 | V18: =SUM(T18:U18) -> 1 | W18: =V18/$A$10 -> 0.0057142857
C19: 17 | D19: 27 | E19: =D19*5 -> 135 | F19: 6 | G19: =SUM(E19:F19) -> 141 | H19: =G19/$A$10 -> 0.80571429 | I19: 3 | J19: =I19*5 -> 15 | K19: 8 | L19: =SUM(J19:K19) -> 23 | M19: =L19/$A$10 -> 0.13142857 | N19: 0 | O19: =N19*5 -> 0 | P19: 6 | Q19: =SUM(O19:P19) -> 6 | R19: =Q19/$A$10 -> 0.034285714 | S19: 0 | T19: =S19*5 -> 0 | U19: 4 | V19: =SUM(T19:U19) -> 4 | W19: =V19/$A$10 -> 0.022857143
C20: 18 | D20: 27 | E20: =D20*5 -> 135 | F20: 11 | G20: =SUM(E20:F20) -> 146 | H20: =G20/$A$10 -> 0.83428571 | I20: 4 | J20: =I20*5 -> 20 | K20: 6 | L20: =SUM(J20:K20) -> 26 | M20: =L20/$A$10 -> 0.14857143 | N20: 0 | O20: =N20*5 -> 0 | P20: 2 | Q20: =SUM(O20:P20) -> 2 | R20: =Q20/$A$10 -> 0.011428571 | S20: 0 | T20: =S20*5 -> 0 | U20: 1 | V20: =SUM(T20:U20) -> 1 | W20: =V20/$A$10 -> 0.0057142857
C21: 19 | D21: 29 | E21: =D21*5 -> 145 | F21: 6 | G21: =SUM(E21:F21) -> 151 | H21: =G21/$A$10 -> 0.86285714 | I21: 2 | J21: 11 | K21: 11 | L21: =SUM(J21:K21) -> 22 | M21: =L21/$A$10 -> 0.12571429 | N21: 0 | O21: =N21*5 -> 0 | P21: 1 | Q21: =SUM(O21:P21) -> 1 | R21: =Q21/$A$10 -> 0.0057142857 | S21: 0 | T21: =S21*5 -> 0 | U21: 1 | V21: =SUM(T21:U21) -> 1 | W21: =V21/$A$10 -> 0.0057142857
C22: 20 | D22: 28 | E22: =D22*5 -> 140 | F22: 12 | G22: =SUM(E22:F22) -> 152 | H22: =G22/$A$10 -> 0.86857143 | I22: 3 | J22: =I22*5 -> 15 | K22: 4 | L22: =SUM(J22:K22) -> 19 | M22: =L22/$A$10 -> 0.10857143 | N22: 0 | O22: =N22*5 -> 0 | P22: 2 | Q22: =SUM(O22:P22) -> 2 | R22: =Q22/$A$10 -> 0.011428571 | S22: 0 | T22: =S22*5 -> 0 | U22: 2 | V22: =SUM(T22:U22) -> 2 | W22: =V22/$A$10 -> 0.011428571
S23: TRƯỞNG KHOA
S26: Trần Kim Thu Liễu

Sheet C.ThanhThuy
A2: Lớp | B2: số SV-HS | C2: Câu | D2: mức 4 | I2: mức 3 | N2: mức 2 | S2: mức 1
A3: 14CĐ-TP1 | B3: 30 | C3: 1 | D3: 11 | E3: =D3*5 -> 55 | F3: 9 | G3: =SUM(E3:F3) -> 64 | H3: =G3/$A$9 -> 0.58715596 | I3: 6 | J3: =I3*5 -> 30 | K3: 9 | L3: =SUM(J3:K3) -> 39 | M3: =L3/$A$9 -> 0.35779817 | N3: 0 | O3: =N3*5 -> 0 | P3: 3 | Q3: =SUM(O3:P3) -> 3 | R3: =Q3/$A$9 -> 0.027522936 | S3: 0 | T3: =S3*5 -> 0 | U3: 2 | V3: =SUM(T3:U3) -> 2 | W3: =V3/$A$9 -> 0.018348624
A4: 14CĐ-TP2 | B4: 22 | C4: 2 | D4: 7 | E4: =D4*5 -> 35 | F4: 13 | G4: =SUM(E4:F4) -> 48 | H4: =G4/$A$9 -> 0.44036697 | I4: 10 | J4: =I4*5 -> 50 | K4: 2 | L4: =SUM(J4:K4) -> 52 | M4: =L4/$A$9 -> 0.47706422 | N4: 0 | O4: =N4*5 -> 0 | P4: 8 | Q4: =SUM(P4:P4) -> 8 | R4: =Q4/$A$9 -> 0.073394495 | S4: 0 | T4: =S4*5 -> 0 | U4: 1 | V4: =SUM(T4:U4) -> 1 | W4: =V4/$A$9 -> 0.0091743119
A5: 14CĐ-TM1 | B5: 31 | C5: 3 | D5: 7 | E5: =D5*5 -> 35 | F5: 8 | G5: =SUM(E5:F5) -> 43 | H5: =G5/$A$9 -> 0.39449541 | I5: 9 | J5: =I5*5 -> 45 | K5: 10 | L5: =SUM(J5:K5) -> 55 | M5: =L5/$A$9 -> 0.50458716 | N5: 0 | O5: =N5*5 -> 0 | P5: 10 | Q5: =SUM(O5:P5) -> 10 | R5: =Q5/$A$9 -> 0.091743119 | S5: 0 | T5: =S5*5 -> 0 | U5: 1 | V5: =SUM(T5:U5) -> 1 | W5: =V5/$A$9 -> 0.0091743119
A6: 14CĐ-M1 | B6: 26 | C6: 4 | D6: 9 | E6: =D6*5 -> 45 | F6: 5 | G6: =SUM(E6:F6) -> 50 | H6: =G6/$A$9 -> 0.4587156 | I6: 8 | J6: =I6*5 -> 40 | K6: 10 | L6: =SUM(J6:K6) -> 50 | M6: =L6/$A$9 -> 0.4587156 | N6: 0 | O6: =N6*5 -> 0 | P6: 7 | Q6: =SUM(O6:P6) -> 7 | R6: =Q6/$A$9 -> 0.064220183 | S6: 0 | T6: =S6*5 -> 0 | U6: 2 | V6: =SUM(T6:U6) -> 2 | W6: =V6/$A$9 -> 0.018348624
C7: 5 | D7: 5 | E7: =D7*5 -> 25 | F7: 3 | G7: =SUM(E7:F7) -> 28 | H7: =G7/$A$9 -> 0.25688073 | I7: 10 | J7: =I7*5 -> 50 | K7: 6 | L7: =SUM(J7:K7) -> 56 | M7: =L7/$A$9 -> 0.51376147 | N7: 2 | O7: =N7*5 -> 10 | P7: 13 | Q7: =SUM(O7:P7) -> 23 | R7: =Q7/$A$9 -> 0.21100917 | S7: 0 | T7: =S7*5 -> 0 | U7: 1 | V7: =SUM(T7:U7) -> 1 | W7: =V7/$A$9 -> 0.0091743119
C8: 6 | D8: 5 | E8: =D8*5 -> 25 | F8: 2 | G8: =SUM(E8:F8) -> 27 | H8: =G8/$A$9 -> 0.24770642 | I8: 7 | J8: =I8*5 -> 35 | K8: 11 | L8: =SUM(J8:K8) -> 46 | M8: =L8/$A$9 -> 0.42201835 | N8: 4 | O8: =N8*5 -> 20 | P8: 7 | Q8: =SUM(O8:P8) -> 27 | R8: =Q8/$A$9 -> 0.24770642 | S8: 1 | T8: =S8*5 -> 5 | U8: 4 | V8: =SUM(T8:U8) -> 9 | W8: =V8/$A$9 -> 0.082568807
A9: =SUM(B3:B8) -> 109 | C9: 7 | D9: 3 | E9: =D9*5 -> 15 | F9: 10 | G9: =SUM(E9:F9) -> 25 | H9: =G9/$A$9 -> 0.2293578 | I9: 8 | J9: =I9*5 -> 40 | K9: 10 | L9: =SUM(J9:K9) -> 50 | M9: =L9/$A$9 -> 0.4587156 | N9: 3 | O9: =N9*5 -> 15 | P9: 14 | Q9: =SUM(O9:P9) -> 29 | R9: =Q9/$A$9 -> 0.26605505 | S9: 0 | T9: =S9*5 -> 0 | U9: 5 | V9: =SUM(T9:U9) -> 5 | W9: =V9/$A$9 -> 0.04587156
C10: 8 | D10: 5 | E10: =D10*5 -> 25 | F10: 4 | G10: =SUM(E10:F10) -> 29 | H10: =G10/$A$9 -> 0.26605505 | I10: 9 | J10: =I10*5 -> 45 | K10: 9 | L10: =SUM(J10:K10) -> 54 | M10: =L10/$A$9 -> 0.49541284 | N10: 4 | O10: =N10*5 -> 20 | P10: 5 | Q10: =SUM(O10:P10) -> 25 | R10: =Q10/$A$9 -> 0.2293578 | S10: 2 | T10: 0 | U10: 1 | V10: =SUM(T10:U10) -> 1 | W10: =V10/$A$9 -> 0.0091743119
C11: 9 | D11: 5 | E11: =D11*5 -> 25 | F11: 6 | G11: =SUM(E11:F11) -> 31 | H11: =G11/$A$9 -> 0.28440367 | I11: 6 | J11: =I11*5 -> 30 | K11: 10 | L11: =SUM(J11:K11) -> 40 | M11: =L11/$A$9 -> 0.36697248 | N11: 3 | O11: =N11*5 -> 15 | P11: 19 | Q11: =SUM(O11:P11) -> 34 | R11: =Q11/$A$9 -> 0.31192661 | S11: 0 | T11: =S11*5 -> 0 | U11: 4 | V11: =SUM(T11:U11) -> 4 | W11: =V11/$A$9 -> 0.036697248
C12: 10 | D12: 6 | E12: =D12*5 -> 30 | F12: 10 | G12: =SUM(E12:F12) -> 40 | H12: =G12/$A$9 -> 0.36697248 | I12: 9 | J12: =I12*5 -> 45 | K12: 4 | L12: =SUM(J12:K12) -> 49 | M12: =L12/$A$9 -> 0.44954128 | N12: 3 | O12: =N12*5 -> 15 | P12: 5 | Q12: =SUM(O12:P12) -> 20 | R12: =Q12/$A$9 -> 0.18348624 | S12: 0 | T12: =S12*5 -> 0 | U12: 0 | V12: =SUM(T12:U12) -> 0 | W12: =V12/$A$9 -> 0
C13: 11 | D13: 8 | E13: =D13*5 -> 40 | F13: 12 | G13: =SUM(E13:F13) -> 52 | H13: =G13/$A$9 -> 0.47706422 | I13: 9 | J13: =I13*5 -> 45 | K13: 6 | L13: =SUM(J13:K13) -> 51 | M13: =L13/$A$9 -> 0.46788991 | N13: 0 | O13: =N13*5 -> 0 | P13: 6 | Q13: =SUM(O13:P13) -> 6 | R13: =Q13/$A$9 -> 0.055045872 | S13: 0 | T13: =S13*5 -> 0 | U13: 1 | V13: =SUM(T13:U13) -> 1 | W13: =V13/$A$9 -> 0.0091743119
C14: 12 | D14: 8 | E14: =D14*5 -> 40 | F14: 11 | G14: =SUM(E14:F14) -> 51 | H14: =G14/$A$9 -> 0.46788991 | I14: 8 | J14: =I14*5 -> 40 | K14: 8 | L14: =SUM(J14:K14) -> 48 | M14: =L14/$A$9 -> 0.44036697 | N14: 0 | O14: =N14*5 -> 0 | P14: 9 | Q14: =SUM(O14:P14) -> 9 | R14: =Q14/$A$9 -> 0.082568807 | S14: 0 | T14: =S14*5 -> 0 | U14: 1 | V14: =SUM(T14:U14) -> 1 | W14: =V14/$A$9 -> 0.0091743119
C15: 13 | D15: 7 | E15: =D15*5 -> 35 | F15: 5 | G15: =SUM(E15:F15) -> 40 | H15: =G15/$A$9 -> 0.36697248 | I15: 9 | J15: =I15*5 -> 45 | K15: 8 | L15: =SUM(J15:K15) -> 53 | M15: =L15/$A$9 -> 0.48623853 | N15: 1 | O15: =N15*5 -> 5 | P15: 7 | Q15: =SUM(O15:P15) -> 12 | R15: =Q15/$A$9 -> 0.11009174 | S15: 0 | T15: =S15*5 -> 0 | U15: 3 | V15: =SUM(T15:U15) -> 3 | W15: =V15/$A$9 -> 0.027522936
C16: 14 | D16: 6 | E16: =D16*5 -> 30 | F16: 6 | G16: =SUM(E16:F16) -> 36 | H16: =G16/$A$9 -> 0.33027523 | I16: 9 | J16: =I16*5 -> 45 | K16: 7 | L16: =SUM(J16:K16) -> 52 | M16: =L16/$A$9 -> 0.47706422 | N16: 2 | O16: =N16*5 -> 10 | P16: 7 | Q16: =SUM(O16:P16) -> 17 | R16: =Q16/$A$9 -> 0.1559633 | S16: 0 | T16: =S16*5 -> 0 | U16: 4 | V16: =SUM(T16:U16) -> 4 | W16: =V16/$A$9 -> 0.036697248
C17: 15 | D17: 4 | E17: =D17*5 -> 20 | F17: 7 | G17: =SUM(E17:F17) -> 27 | H17: =G17/$A$9 -> 0.24770642 | I17: 10 | J17: =I17*5 -> 50 | K17: 10 | L17: =SUM(J17:K17) -> 60 | M17: =L17/$A$9 -> 0.55045872 | N17: 2 | O17: =N17*5 -> 10 | P17: 7 | Q17: =SUM(O17:P17) -> 17 | R17: =Q17/$A$9 -> 0.1559633 | S17: 0 | T17: =S17*5 -> 0 | U17: 4 | V17: =SUM(T17:U17) -> 4 | W17: =V17/$A$9 -> 0.036697248
C18: 16 | D18: 5 | E18: =D18*5 -> 25 | F18: 10 | G18: =SUM(E18:F18) -> 35 | H18: =G18/$A$9 -> 0.32110092 | I18: 10 | J18: =I18*5 -> 50 | K18: 7 | L18: =SUM(J18:K18) -> 57 | M18: =L18/$A$9 -> 0.52293578 | N18: 3 | O18: =N18*5 -> 15 | P18: 1 | Q18: =SUM(O18:P18) -> 16 | R18: =Q18/$A$9 -> 0.14678899 | S18: 0 | T18: =S18*5 -> 0 | U18: 1 | V18: =SUM(T18:U18) -> 1 | W18: =V18/$A$9 -> 0.0091743119
C19: 17 | D19: 7 | E19: =D19*5 -> 35 | F19: 9 | G19: =SUM(E19:F19) -> 44 | H19: =G19/$A$9 -> 0.40366972 | I19: 10 | J19: =I19*5 -> 50 | K19: 5 | L19: =SUM(J19:K19) -> 55 | M19: =L19/$A$9 -> 0.50458716 | N19: 0 | O19: =N19*5 -> 0 | P19: 9 | Q19: =SUM(O19:P19) -> 9 | R19: =Q19/$A$9 -> 0.082568807 | S19: 0 | T19: =S19*5 -> 0 | U19: 0 | V19: =SUM(T19:U19) -> 0 | W19: =V19/$A$9 -> 0
C20: 18 | D20: 6 | E20: =D20*5 -> 30 | F20: 12 | G20: =SUM(E20:F20) -> 42 | H20: =G20/$A$9 -> 0.3853211 | I20: 9 | J20: =I20*5 -> 45 | K20: 11 | L20: =SUM(J20:K20) -> 56 | M20: =L20/$A$9 -> 0.51376147 | N20: 1 | O20: =N20*5 -> 5 | P20: 4 | Q20: =SUM(O20:P20) -> 9 | R20: =Q20/$A$9 -> 0.082568807 | S20: 0 | T20: =S20*5 -> 0 | U20: 2 | V20: =SUM(T20:U20) -> 2 | W20: =V20/$A$9 -> 0.018348624
C21: 19 | D21: 9 | E21: =D21*5 -> 45 | F21: 8 | G21: =SUM(E21:F21) -> 53 | H21: =G21/$A$9 -> 0.48623853 | I21: 8 | J21: =I21*5 -> 40 | K21: 5 | L21: =SUM(J21:K21) -> 45 | M21: =L21/$A$9 -> 0.41284404 | N21: 0 | O21: =N21*5 -> 0 | P21: 9 | Q21: =SUM(O21:P21) -> 9 | R21: =Q21/$A$9 -> 0.082568807 | S21: 0 | T21: =S21*5 -> 0 | U21: 2 | V21: =SUM(T21:U21) -> 2 | W21: =V21/$A$9 -> 0.018348624
C22: 20 | D22: 8 | E22: =D22*5 -> 40 | F22: 13 | G22: =SUM(E22:F22) -> 53 | H22: =G22/$A$9 -> 0.48623853 | I22: 7 | J22: =I22*5 -> 35 | K22: 10 | L22: =SUM(J22:K22) -> 45 | M22: =L22/$A$9 -> 0.41284404 | N22: 1 | O22: =N22*5 -> 5 | P22: 4 | Q22: =SUM(O22:P22) -> 9 | R22: =Q22/$A$9 -> 0.082568807 | S22: 0 | T22: =S22*5 -> 0 | U22: 2 | V22: =SUM(T22:U22) -> 2 | W22: =V22/$A$9 -> 0.018348624
S23: TRƯỞNG KHOA
S26: Trần Kim Thu Liễu

Sheet C.PhuongHa
A1: GV: Nguyễn Phương Hà
A2: Lớp | B2: số SV-HS | C2: Câu | D2: mức 4 | I2: mức 3 | N2: mức 2 | S2: mức 1
A3: 14CĐ-NL1 | B3: 30 | C3: 1 | D3: 20 | E3: =D3*5 -> 100 | F3: 18 | G3: =SUM(E3:F3) -> 118 | H3: =G3/$A$12 -> 0.4083045 | I3: 23 | J3: =I3*5 -> 115 | K3: 14 | L3: =SUM(J3:K3) -> 129 | M3: =L3/$A$12 -> 0.44636678 | N3: 2 | O3: =N3*5 -> 10 | P3: 17 | Q3: =SUM(O3:P3) -> 27 | R3: =Q3/$A$12 -> 0.093425606 | S3: 0 | T3: =S3*5 -> 0 | U3: 15 | V3: =SUM(T3:U3) -> 15 | W3: =V3/$A$12 -> 0.051903114
A4: 14CĐ-Đ1 | B4: 29 | C4: 2 | D4: 25 | E4: =D4*5 -> 125 | F4: 17 | G4: =SUM(E4:F4) -> 142 | H4: =G4/$A$12 -> 0.49134948 | I4: 20 | J4: =I4*5 -> 100 | K4: 13 | L4: =SUM(J4:K4) -> 113 | M4: =L4/$A$12 -> 0.39100346 | N4: 8 | O4: =N4*5 -> 40 | P4: 17 | Q4: =SUM(P4:P4) -> 17 | R4: =Q4/$A$12 -> 0.058823529 | S4: 1 | T4: =S4*5 -> 5 | U4: 6 | V4: =SUM(T4:U4) -> 11 | W4: =V4/$A$12 -> 0.038062284
A5: 14CĐ-ĐT2 | B5: 39 | C5: 3 | D5: 17 | E5: =D5*5 -> 85 | F5: 17 | G5: =SUM(E5:F5) -> 102 | H5: =G5/$A$12 -> 0.35294118 | I5: 24 | J5: =I5*5 -> 120 | K5: 20 | L5: =SUM(J5:K5) -> 140 | M5: =L5/$A$12 -> 0.48442907 | N5: 3 | O5: =N5*5 -> 15 | P5: 17 | Q5: =SUM(O5:P5) -> 32 | R5: =Q5/$A$12 -> 0.11072664 | S5: 0 | T5: =S5*5 -> 0 | U5: 6 | V5: =SUM(T5:U5) -> 6 | W5: =V5/$A$12 -> 0.020761246
A6: 14CĐ-CK1 | B6: 42 | C6: 4 | D6: 26 | E6: =D6*5 -> 130 | F6: 15 | G6: =SUM(E6:F6) -> 145 | H6: =G6/$A$12 -> 0.5017301 | I6: 18 | J6: =I6*5 -> 90 | K6: 16 | L6: =SUM(J6:K6) -> 106 | M6: =L6/$A$12 -> 0.36678201 | N6: 1 | O6: =N6*5 -> 5 | P6: 22 | Q6: =SUM(O6:P6) -> 27 | R6: =Q6/$A$12 -> 0.093425606 | S6: 0 | T6: =S6*5 -> 0 | U6: 4 | V6: =SUM(T6:U6) -> 4 | W6: =V6/$A$12 -> 0.01384083
A7: 14CĐ-CK2 | B7: 38 | C7: 5 | D7: 19 | E7: =D7*5 -> 95 | F7: 22 | G7: =SUM(E7:F7) -> 117 | H7: =G7/$A$12 -> 0.40484429 | I7: 20 | J7: =I7*5 -> 100 | K7: 22 | L7: =SUM(J7:K7) -> 122 | M7: =L7/$A$12 -> 0.42214533 | N7: 2 | O7: =N7*5 -> 10 | P7: 22 | Q7: =SUM(O7:P7) -> 32 | R7: =Q7/$A$12 -> 0.11072664 | S7: 0 | T7: =S7*5 -> 0 | U7: 16 | V7: =SUM(T7:U7) -> 16 | W7: =V7/$A$12 -> 0.055363322
A8: 14CĐ-CK3 | B8: 35 | C8: 6 | D8: 24 | E8: =D8*5 -> 120 | F8: 11 | G8: =SUM(E8:F8) -> 131 | H8: =G8/$A$12 -> 0.4532872 | I8: 21 | J8: =I8*5 -> 105 | K8: 12 | L8: =SUM(J8:K8) -> 117 | M8: =L8/$A$12 -> 0.40484429 | N8: 1 | O8: =N8*5 -> 5 | P8: 18 | Q8: =SUM(O8:P8) -> 23 | R8: =Q8/$A$12 -> 0.079584775 | S8: 0 | T8: =S8*5 -> 0 | U8: 8 | V8: =SUM(T8:U8) -> 8 | W8: =V8/$A$12 -> 0.027681661
A9: 14CĐ-O1 | B9: 24 | C9: 7 | D9: 16 | E9: =D9*5 -> 80 | F9: 22 | G9: =SUM(E9:F9) -> 102 | H9: =G9/$A$12 -> 0.35294118 | I9: 23 | J9: =I9*5 -> 115 | K9: 13 | L9: =SUM(J9:K9) -> 128 | M9: =L9/$A$12 -> 0.44290657 | N9: 5 | O9: =N9*5 -> 25 | P9: 19 | Q9: =SUM(O9:P9) -> 44 | R9: =Q9/$A$12 -> 0.15224913 | S9: 0 | T9: =S9*5 -> 0 | U9: 6 | V9: =SUM(T9:U9) -> 6 | W9: =V9/$A$12 -> 0.020761246
A10: 14CĐ-O2 | B10: 24 | C10: 8 | D10: 22 | E10: =D10*5 -> 110 | F10: 12 | G10: =SUM(E10:F10) -> 122 | H10: =G10/$A$12 -> 0.42214533 | I10: 17 | J10: =I10*5 -> 85 | K10: 18 | L10: =SUM(J10:K10) -> 103 | M10: =L10/$A$12 -> 0.35640138 | N10: 4 | O10: =N10*5 -> 20 | P10: 15 | Q10: =SUM(O10:P10) -> 35 | R10: =Q10/$A$12 -> 0.12110727 | S10: 0 | T10: =S10*5 -> 0 | U10: 13 | V10: =SUM(T10:U10) -> 13 | W10: =V10/$A$12 -> 0.044982699
A11: 14CĐ-O5 | B11: 28 | C11: 9 | D11: 21 | E11: =D11*5 -> 105 | F11: 17 | G11: =SUM(E11:F11) -> 122 | H11: =G11/$A$12 -> 0.42214533 | I11: 22 | J11: =I11*5 -> 110 | K11: 6 | L11: =SUM(J11:K11) -> 116 | M11: =L11/$A$12 -> 0.40138408 | N11: 3 | O11: =N11*5 -> 15 | P11: 19 | Q11: =SUM(O11:P11) -> 34 | R11: =Q11/$A$12 -> 0.11764706 | S11: 0 | T11: =S11*5 -> 0 | U11: 15 | V11: =SUM(T11:U11) -> 15 | W11: =V11/$A$12 -> 0.051903114
A12: =SUM(B3:B11) -> 289 | C12: 10 | D12: 18 | E12: =D12*5 -> 90 | F12: 16 | G12: =SUM(E12:F12) -> 106 | H12: =G12/$A$12 -> 0.36678201 | I12: 19 | J12: =I12*5 -> 95 | K12: 15 | L12: =SUM(J12:K12) -> 110 | M12: =L12/$A$12 -> 0.38062284 | N12: 6 | O12: =N12*5 -> 30 | P12: 22 | Q12: =SUM(O12:P12) -> 52 | R12: =Q12/$A$12 -> 0.1799308 | S12: 1 | T12: =S12*5 -> 5 | U12: 16 | V12: =SUM(T12:U12) -> 21 | W12: =V12/$A$12 -> 0.07266436
C13: 11 | D13: 19 | E13: =D13*5 -> 95 | F13: 18 | G13: =SUM(E13:F13) -> 113 | H13: =G13/$A$12 -> 0.39100346 | I13: 21 | J13: =I13*5 -> 105 | K13: 16 | L13: =SUM(J13:K13) -> 121 | M13: =L13/$A$12 -> 0.41868512 | N13: 3 | O13: =N13*5 -> 15 | P13: 23 | Q13: =SUM(O13:P13) -> 38 | R13: =Q13/$A$12 -> 0.13148789 | S13: 0 | T13: =S13*5 -> 0 | U13: 10 | V13: =SUM(T13:U13) -> 10 | W13: =V13/$A$12 -> 0.034602076
C14: 12 | D14: 22 | E14: =D14*5 -> 110 | F14: 12 | G14: =SUM(E14:F14) -> 122 | H14: =G14/$A$12 -> 0.42214533 | I14: 23 | J14: =I14*5 -> 115 | K14: 11 | L14: =SUM(J14:K14) -> 126 | M14: =L14/$A$12 -> 0.43598616 | N14: 2 | O14: =N14*5 -> 10 | P14: 17 | Q14: =SUM(O14:P14) -> 27 | R14: =Q14/$A$12 -> 0.093425606 | S14: 0 | T14: =S14*5 -> 0 | U14: 5 | V14: =SUM(T14:U14) -> 5 | W14: =V14/$A$12 -> 0.017301038
C15: 13 | D15: 17 | E15: =D15*5 -> 85 | F15: 19 | G15: =SUM(E15:F15) -> 104 | H15: =G15/$A$12 -> 0.35986159 | I15: 22 | J15: =I15*5 -> 110 | K15: 14 | L15: =SUM(J15:K15) -> 124 | M15: =L15/$A$12 -> 0.42906574 | N15: 4 | O15: =N15*5 -> 20 | P15: 14 | Q15: =SUM(O15:P15) -> 34 | R15: =Q15/$A$12 -> 0.11764706 | S15: 0 | T15: =S15*5 -> 0 | U15: 17 | V15: =SUM(T15:U15) -> 17 | W15: =V15/$A$12 -> 0.058823529
C16: 14 | D16: 27 | E16: =D16*5 -> 135 | F16: 13 | G16: =SUM(E16:F16) -> 148 | H16: =G16/$A$12 -> 0.51211073 | I16: 20 | J16: =I16*5 -> 100 | K16: 13 | L16: =SUM(J16:K16) -> 113 | M16: =L16/$A$12 -> 0.39100346 | N16: 1 | O16: =N16*5 -> 5 | P16: 15 | Q16: =SUM(O16:P16) -> 20 | R16: =Q16/$A$12 -> 0.069204152 | S16: 0 | T16: =S16*5 -> 0 | U16: 6 | V16: =SUM(T16:U16) -> 6 | W16: =V16/$A$12 -> 0.020761246
C17: 15 | D17: 16 | E17: =D17*5 -> 80 | F17: 28 | G17: =SUM(E17:F17) -> 108 | H17: =G17/$A$12 -> 0.37370242 | I17: 21 | J17: =I17*5 -> 105 | K17: 20 | L17: =SUM(J17:K17) -> 125 | M17: =L17/$A$12 -> 0.43252595 | N17: 5 | O17: =N17*5 -> 25 | P17: 17 | Q17: =SUM(O17:P17) -> 42 | R17: =Q17/$A$12 -> 0.14532872 | S17: 0 | T17: =S17*5 -> 0 | U17: 10 | V17: =SUM(T17:U17) -> 10 | W17: =V17/$A$12 -> 0.034602076
C18: 16 | D18: 17 | E18: =D18*5 -> 85 | F18: 14 | G18: =SUM(E18:F18) -> 99 | H18: =G18/$A$12 -> 0.34256055 | I18: 26 | J18: =I18*5 -> 130 | K18: 10 | L18: =SUM(J18:K18) -> 140 | M18: =L18/$A$12 -> 0.48442907 | N18: 4 | O18: =N18*5 -> 20 | P18: 15 | Q18: =SUM(O18:P18) -> 35 | R18: =Q18/$A$12 -> 0.12110727 | S18: 1 | T18: =S18*5 -> 5 | U18: 10 | V18: =SUM(T18:U18) -> 15 | W18: =V18/$A$12 -> 0.051903114
C19: 17 | D19: 21 | E19: =D19*5 -> 105 | F19: 16 | G19: =SUM(E19:F19) -> 121 | H19: =G19/$A$12 -> 0.41868512 | I19: 16 | J19: =I19*5 -> 80 | K19: 23 | L19: =SUM(J19:K19) -> 103 | M19: =L19/$A$12 -> 0.35640138 | N19: 2 | O19: =N19*5 -> 10 | P19: 20 | Q19: =SUM(O19:P19) -> 30 | R19: =Q19/$A$12 -> 0.10380623 | S19: 0 | T19: =S19*5 -> 0 | U19: 9 | V19: =SUM(T19:U19) -> 9 | W19: =V19/$A$12 -> 0.031141869
C20: 18 | D20: 23 | E20: =D20*5 -> 115 | F20: 18 | G20: =SUM(E20:F20) -> 133 | H20: =G20/$A$12 -> 0.46020761 | I20: 19 | J20: =I20*5 -> 95 | K20: 21 | L20: =SUM(J20:K20) -> 116 | M20: =L20/$A$12 -> 0.40138408 | N20: 2 | O20: =N20*5 -> 10 | P20: 16 | Q20: =SUM(O20:P20) -> 26 | R20: =Q20/$A$12 -> 0.089965398 | S20: 0 | T20: =S20*5 -> 0 | U20: 11 | V20: =SUM(T20:U20) -> 11 | W20: =V20/$A$12 -> 0.038062284
C21: 19 | D21: 23 | E21: =D21*5 -> 115 | F21: 24 | G21: =SUM(E21:F21) -> 139 | H21: =G21/$A$12 -> 0.48096886 | I21: 19 | J21: =I21*5 -> 95 | K21: 16 | L21: =SUM(J21:K21) -> 111 | M21: =L21/$A$12 -> 0.38408304 | N21: 1 | O21: =N21*5 -> 5 | P21: 19 | Q21: =SUM(O21:P21) -> 24 | R21: =Q21/$A$12 -> 0.083044983 | S21: 0 | T21: =S21*5 -> 0 | U21: 9 | V21: =SUM(T21:U21) -> 9 | W21: =V21/$A$12 -> 0.031141869
C22: 20 | D22: 25 | E22: =D22*5 -> 125 | F22: 17 | G22: =SUM(E22:F22) -> 142 | H22: =G22/$A$12 -> 0.49134948 | I22: 15 | J22: =I22*5 -> 75 | K22: 25 | L22: =SUM(J22:K22) -> 100 | M22: =L22/$A$12 -> 0.34602076 | N22: 3 | O22: =N22*5 -> 15 | P22: 18 | Q22: =SUM(O22:P22) -> 33 | R22: =Q22/$A$12 -> 0.11418685 | S22: 0 | T22: =S22*5 -> 0 | U22: 7 | V22: =SUM(T22:U22) -> 7 | W22: =V22/$A$12 -> 0.024221453
S23: TRƯỞNG KHOA
S26: Trần Kim Thu Liễu
